BEGIN:VCALENDAR
VERSION:2.0
PRODID:-//Lower Island Soccer Association - ECPv6.15.18//NONSGML v1.0//EN
CALSCALE:GREGORIAN
METHOD:PUBLISH
X-WR-CALNAME:Lower Island Soccer Association
X-ORIGINAL-URL:https://lowerislandsoccer.com
X-WR-CALDESC:Events for Lower Island Soccer Association
REFRESH-INTERVAL;VALUE=DURATION:PT1H
X-Robots-Tag:noindex
X-PUBLISHED-TTL:PT1H
BEGIN:VTIMEZONE
TZID:America/Edmonton
BEGIN:DAYLIGHT
TZOFFSETFROM:-0700
TZOFFSETTO:-0600
TZNAME:MDT
DTSTART:20230312T090000
END:DAYLIGHT
BEGIN:STANDARD
TZOFFSETFROM:-0600
TZOFFSETTO:-0700
TZNAME:MST
DTSTART:20231105T080000
END:STANDARD
BEGIN:DAYLIGHT
TZOFFSETFROM:-0700
TZOFFSETTO:-0600
TZNAME:MDT
DTSTART:20240310T090000
END:DAYLIGHT
BEGIN:STANDARD
TZOFFSETFROM:-0600
TZOFFSETTO:-0700
TZNAME:MST
DTSTART:20241103T080000
END:STANDARD
BEGIN:DAYLIGHT
TZOFFSETFROM:-0700
TZOFFSETTO:-0600
TZNAME:MDT
DTSTART:20250309T090000
END:DAYLIGHT
BEGIN:STANDARD
TZOFFSETFROM:-0600
TZOFFSETTO:-0700
TZNAME:MST
DTSTART:20251102T080000
END:STANDARD
BEGIN:DAYLIGHT
TZOFFSETFROM:-0700
TZOFFSETTO:-0600
TZNAME:MDT
DTSTART:20260308T090000
END:DAYLIGHT
BEGIN:STANDARD
TZOFFSETFROM:-0600
TZOFFSETTO:-0700
TZNAME:MST
DTSTART:20261101T080000
END:STANDARD
END:VTIMEZONE
BEGIN:VEVENT
DTSTART;VALUE=DATE:20250531
DTEND;VALUE=DATE:20250601
DTSTAMP:20260424T030646
CREATED:20240905T201850Z
LAST-MODIFIED:20240905T201850Z
UID:46269-1748649600-1748735999@lowerislandsoccer.com
SUMMARY:Spring League Registration Databases to BC Soccer
DESCRIPTION:Spring League Registration Databases to BC Soccer
URL:https://lowerislandsoccer.com/event/spring-league-registration-databases-to-bc-soccer/
CATEGORIES:Season
ATTACH;FMTTYPE=image/jpeg:https://lowerislandsoccer.com/wp-content/uploads/2024/08/Blog-Post-BG.jpg
END:VEVENT
BEGIN:VEVENT
DTSTART;VALUE=DATE:20250127
DTEND;VALUE=DATE:20250128
DTSTAMP:20260424T030646
CREATED:20240905T201803Z
LAST-MODIFIED:20240905T201919Z
UID:46268-1737936000-1738022399@lowerislandsoccer.com
SUMMARY:LATE Primary Registrations-Club Databases to BC Soccer
DESCRIPTION:LATE Primary Registrations-Club Databases to BC Soccer
URL:https://lowerislandsoccer.com/event/late-primary-registrations-club-databases-to-bc-soccer/
CATEGORIES:Club,Season
ATTACH;FMTTYPE=image/jpeg:https://lowerislandsoccer.com/wp-content/uploads/2024/08/Blog-Post-BG.jpg
END:VEVENT
BEGIN:VEVENT
DTSTART;VALUE=DATE:20250115
DTEND;VALUE=DATE:20250116
DTSTAMP:20260424T030646
CREATED:20240905T201738Z
LAST-MODIFIED:20240905T201929Z
UID:46267-1736899200-1736985599@lowerislandsoccer.com
SUMMARY:Competitive Roster Submission Deadline
DESCRIPTION:
URL:https://lowerislandsoccer.com/event/competitive-roster-submission-deadline/
CATEGORIES:Club,Season
ATTACH;FMTTYPE=image/jpeg:https://lowerislandsoccer.com/wp-content/uploads/2024/08/LAtest-New.jpg
END:VEVENT
BEGIN:VEVENT
DTSTART;VALUE=DATE:20241201
DTEND;VALUE=DATE:20241202
DTSTAMP:20260424T030646
CREATED:20240905T201707Z
LAST-MODIFIED:20240905T201707Z
UID:46266-1733011200-1733097599@lowerislandsoccer.com
SUMMARY:"A"/"B" Cup Declaration Date
DESCRIPTION:
URL:https://lowerislandsoccer.com/event/a-b-cup-declaration-date/
CATEGORIES:Club,Cup Play,Season
ATTACH;FMTTYPE=image/jpeg:https://lowerislandsoccer.com/wp-content/uploads/2024/08/Blog-Post-BG.jpg
END:VEVENT
BEGIN:VEVENT
DTSTART;VALUE=DATE:20241102
DTEND;VALUE=DATE:20241104
DTSTAMP:20260424T030646
CREATED:20240905T201354Z
LAST-MODIFIED:20240905T201354Z
UID:46265-1730505600-1730678399@lowerislandsoccer.com
SUMMARY:LISA U11 Festival
DESCRIPTION:
URL:https://lowerislandsoccer.com/event/lisa-u11-festival/
CATEGORIES:Festival
ATTACH;FMTTYPE=image/jpeg:https://lowerislandsoccer.com/wp-content/uploads/2024/08/Blog-Post-BG.jpg
END:VEVENT
BEGIN:VEVENT
DTSTART;VALUE=DATE:20241019
DTEND;VALUE=DATE:20241020
DTSTAMP:20260424T030646
CREATED:20240905T200729Z
LAST-MODIFIED:20240905T200736Z
UID:46264-1729296000-1729382399@lowerislandsoccer.com
SUMMARY:LISA Mini-Fest
DESCRIPTION:LISA Mini-Fest
URL:https://lowerislandsoccer.com/event/lisa-mini-fest/
CATEGORIES:Festival
ATTACH;FMTTYPE=image/jpeg:https://lowerislandsoccer.com/wp-content/uploads/2024/08/Club-Placeholder.jpg
END:VEVENT
BEGIN:VEVENT
DTSTART;VALUE=DATE:20241007
DTEND;VALUE=DATE:20241008
DTSTAMP:20260424T030646
CREATED:20240905T200638Z
LAST-MODIFIED:20240905T200638Z
UID:46263-1728259200-1728345599@lowerislandsoccer.com
SUMMARY:Primary Season Club Databases to BC Soccer
DESCRIPTION:
URL:https://lowerislandsoccer.com/event/primary-season-club-databases-to-bc-soccer/
CATEGORIES:Club,Season
END:VEVENT
BEGIN:VEVENT
DTSTART;VALUE=DATE:20240914
DTEND;VALUE=DATE:20240916
DTSTAMP:20260424T030646
CREATED:20240905T200600Z
LAST-MODIFIED:20240905T201314Z
UID:46262-1726272000-1726444799@lowerislandsoccer.com
SUMMARY:U11-U13 Season Start Date
DESCRIPTION:Get ready to kick off an exciting new season! Join us for the U11-U13 Tier Season Start\, a thrilling event that marks the beginning of a new chapter for our young athletes. This event will bring together teams from the U14 through U18 categories in a celebration of skill\, sportsmanship\, and the spirited competition that defines our league.
URL:https://lowerislandsoccer.com/event/u11-u13-season-start-date/
CATEGORIES:Season
ATTACH;FMTTYPE=image/jpeg:https://lowerislandsoccer.com/wp-content/uploads/2024/08/Soccer-banner-4.jpg
END:VEVENT
BEGIN:VEVENT
DTSTART;VALUE=DATE:20240914
DTEND;VALUE=DATE:20240916
DTSTAMP:20260424T030646
CREATED:20240905T200017Z
LAST-MODIFIED:20240905T201248Z
UID:46260-1726272000-1726444799@lowerislandsoccer.com
SUMMARY:U14-U18 Tier 4 Season Start
DESCRIPTION:Get ready to kick off an exciting new season! Join us for the U14-U18 Tier 4 Season Start\, a thrilling event that marks the beginning of a new chapter for our young athletes. This event will bring together teams from the U14 through U18 categories in a celebration of skill\, sportsmanship\, and the spirited competition that defines our league.
URL:https://lowerislandsoccer.com/event/u14-u18-tier-4-season-start/
CATEGORIES:Season
ATTACH;FMTTYPE=image/jpeg:https://lowerislandsoccer.com/wp-content/uploads/2024/08/Soccer-banner-4.jpg
END:VEVENT
BEGIN:VEVENT
DTSTART;VALUE=DATE:20240907
DTEND;VALUE=DATE:20240909
DTSTAMP:20260424T030646
CREATED:20240905T195431Z
LAST-MODIFIED:20240905T201241Z
UID:46258-1725667200-1725839999@lowerislandsoccer.com
SUMMARY:U14-U18 Tier 2/3 Season Start
DESCRIPTION:Get ready to kick off an exciting new season! Join us for the U14-U18 Tier 2/3 Season Start\, a thrilling event that marks the beginning of a new chapter for our young athletes. This event will bring together teams from the U14 through U18 categories in a celebration of skill\, sportsmanship\, and the spirited competition that defines our league.
URL:https://lowerislandsoccer.com/event/u14-u18-tier-2-3-season-start/
CATEGORIES:Season
ATTACH;FMTTYPE=image/jpeg:https://lowerislandsoccer.com/wp-content/uploads/2024/08/scholarship.jpg
END:VEVENT
END:VCALENDAR